BEGIN:VCALENDAR
VERSION:2.0
PRODID:-//pretix//pretix.eu//
BEGIN:VEVENT
UID:pretix-culinarium-bavaricum-vievinum-weinviertel-dac-winewalks-2026-0@t
 ickets.culinarium-bavaricum.de
DTSTART;VALUE=DATE:20260516
DTEND;VALUE=DATE:20260519
DESCRIPTION:Tickets: https://tickets.culinarium-bavaricum.de/vievinum-weinv
 iertel-dac-winewalks-2026/\nVeranstalter: Culinarium Bavaricum
DTSTAMP:20260421T124320Z
LOCATION:Hofburg Vienna\, Heldenplatz\, A-1010 Wien
SUMMARY:Weinviertel DAC - Let's Wine Walk auf der VIEVINUM 2026
END:VEVENT
END:VCALENDAR
